Package: EnMCB Version: 1.20.0 Command: /home/biocbuild/R/R/bin/R CMD build --keep-empty-dirs --no-resave-data EnMCB StartedAt: 2025-09-30 00:53:40 -0000 (Tue, 30 Sep 2025) EndedAt: 2025-09-30 00:54:35 -0000 (Tue, 30 Sep 2025) EllapsedTime: 55.0 seconds RetCode: 0 Status: OK PackageFile: EnMCB_1.20.0.tar.gz PackageFileSize: 4.929 MiB