Package: EnMCB Version: 1.20.0 Command: /Library/Frameworks/R.framework/Resources/bin/R CMD INSTALL EnMCB StartedAt: 2025-04-21 15:05:09 -0400 (Mon, 21 Apr 2025) EndedAt: 2025-04-21 15:05:18 -0400 (Mon, 21 Apr 2025) EllapsedTime: 9.1 seconds RetCode: 0 Status: OK