Package: EnMCB Version: 1.20.0 Command: /Library/Frameworks/R.framework/Resources/bin/R CMD build --keep-empty-dirs --no-resave-data EnMCB StartedAt: 2025-10-13 23:50:10 -0400 (Mon, 13 Oct 2025) EndedAt: 2025-10-13 23:51:13 -0400 (Mon, 13 Oct 2025) EllapsedTime: 62.8 seconds RetCode: 0 Status: OK PackageFile: EnMCB_1.20.0.tar.gz PackageFileSize: 4.929 MiB