Package: EmpiricalBrownsMethod Version: 1.38.0 Command: /home/biocbuild/R/R/bin/R CMD INSTALL EmpiricalBrownsMethod StartedAt: 2025-11-13 21:02:34 -0000 (Thu, 13 Nov 2025) EndedAt: 2025-11-13 21:02:53 -0000 (Thu, 13 Nov 2025) EllapsedTime: 18.7 seconds RetCode: 0 Status: OK