Package: EmpiricalBrownsMethod Version: 1.36.0 Command: /home/biocbuild/bbs-3.21-bioc/R/bin/R CMD INSTALL EmpiricalBrownsMethod StartedAt: 2025-10-08 15:02:26 -0400 (Wed, 08 Oct 2025) EndedAt: 2025-10-08 15:02:36 -0400 (Wed, 08 Oct 2025) EllapsedTime: 9.8 seconds RetCode: 0 Status: OK