Package: EmpiricalBrownsMethod Version: 1.36.0 Command: /home/biocbuild/bbs-3.21-bioc/R/bin/R CMD build --keep-empty-dirs --no-resave-data EmpiricalBrownsMethod StartedAt: 2025-10-08 17:21:19 -0400 (Wed, 08 Oct 2025) EndedAt: 2025-10-08 17:21:24 -0400 (Wed, 08 Oct 2025) EllapsedTime: 4.0 seconds RetCode: 0 Status: OK PackageFile: EmpiricalBrownsMethod_1.36.0.tar.gz PackageFileSize: 38.68 KiB