Package: EmpiricalBrownsMethod Version: 1.38.0 Command: /Library/Frameworks/R.framework/Resources/bin/R CMD INSTALL EmpiricalBrownsMethod StartedAt: 2025-11-20 15:49:47 -0500 (Thu, 20 Nov 2025) EndedAt: 2025-11-20 15:50:04 -0500 (Thu, 20 Nov 2025) EllapsedTime: 16.8 seconds RetCode: 0 Status: OK