Package: EmpiricalBrownsMethod Version: 1.38.0 Command: rm -rf EmpiricalBrownsMethod.buildbin-libdir && mkdir EmpiricalBrownsMethod.buildbin-libdir && /Users/biocbuild/BBS/utils/build-universal.sh EmpiricalBrownsMethod_1.38.0.tar.gz /Library/Frameworks/R.framework/Resources/bin/R EmpiricalBrownsMethod.buildbin-libdir StartedAt: 2025-11-21 14:39:51 -0500 (Fri, 21 Nov 2025) EndedAt: 2025-11-21 14:39:56 -0500 (Fri, 21 Nov 2025) EllapsedTime: 5.3 seconds RetCode: 0 Status: OK PackageFile: EmpiricalBrownsMethod_1.38.0.tgz PackageFileSize: 51.36 KiB