Package: EmpiricalBrownsMethod Version: 1.36.0 Command: /Library/Frameworks/R.framework/Resources/bin/R CMD INSTALL EmpiricalBrownsMethod StartedAt: 2025-10-09 15:05:24 -0400 (Thu, 09 Oct 2025) EndedAt: 2025-10-09 15:05:26 -0400 (Thu, 09 Oct 2025) EllapsedTime: 2.5 seconds RetCode: 0 Status: OK