Package: EmpiricalBrownsMethod Version: 1.36.0 Command: /Library/Frameworks/R.framework/Resources/bin/R CMD build --keep-empty-dirs --no-resave-data EmpiricalBrownsMethod StartedAt: 2025-10-10 00:00:45 -0400 (Fri, 10 Oct 2025) EndedAt: 2025-10-10 00:00:51 -0400 (Fri, 10 Oct 2025) EllapsedTime: 6.9 seconds RetCode: 0 Status: OK PackageFile: EmpiricalBrownsMethod_1.36.0.tar.gz PackageFileSize: 38.78 KiB