Package: EmpiricalBrownsMethod Version: 1.36.0 Command: rm -rf EmpiricalBrownsMethod.buildbin-libdir && mkdir EmpiricalBrownsMethod.buildbin-libdir && /Users/biocbuild/BBS/utils/build-universal.sh EmpiricalBrownsMethod_1.36.0.tar.gz /Library/Frameworks/R.framework/Resources/bin/R EmpiricalBrownsMethod.buildbin-libdir StartedAt: 2025-10-11 20:01:37 -0400 (Sat, 11 Oct 2025) EndedAt: 2025-10-11 20:01:41 -0400 (Sat, 11 Oct 2025) EllapsedTime: 4.3 seconds RetCode: 0 Status: OK PackageFile: EmpiricalBrownsMethod_1.36.0.tgz PackageFileSize: 51.36 KiB