Package: EmpiricalBrownsMethod Version: 1.36.0 Maintainer: David Gibbs MaintainerEmail: dgibbs at systemsbiology.org git_url: https://git.bioconductor.org/packages/EmpiricalBrownsMethod git_branch: RELEASE_3_21 git_last_commit: 2a598f8 git_last_commit_date: 2025-04-15 10:57:40 -0400 (Tue, 15 Apr 2025)