Package: EWCE Version: 1.18.0 Command: /home/biocbuild/bbs-3.22-bioc/R/bin/R CMD INSTALL EWCE StartedAt: 2025-11-11 15:39:28 -0500 (Tue, 11 Nov 2025) EndedAt: 2025-11-11 15:40:04 -0500 (Tue, 11 Nov 2025) EllapsedTime: 36.0 seconds RetCode: 0 Status: OK