Package: EWCE Version: 1.18.0 Command: /Library/Frameworks/R.framework/Resources/bin/R CMD build --keep-empty-dirs --no-resave-data EWCE StartedAt: 2025-11-10 16:22:32 -0500 (Mon, 10 Nov 2025) EndedAt: 2025-11-10 16:24:41 -0500 (Mon, 10 Nov 2025) EllapsedTime: 129.5 seconds RetCode: 0 Status: OK PackageFile: EWCE_1.18.0.tar.gz PackageFileSize: 2.539 MiB