Package: ERSSA Version: 1.28.0 Command: /home/biocbuild/bbs-3.22-bioc/R/bin/R CMD INSTALL ERSSA StartedAt: 2025-11-11 15:36:45 -0500 (Tue, 11 Nov 2025) EndedAt: 2025-11-11 15:37:11 -0500 (Tue, 11 Nov 2025) EllapsedTime: 26.1 seconds RetCode: 0 Status: OK