Package: ERSSA Version: 1.28.0 Command: /home/biocbuild/bbs-3.22-bioc/R/bin/R CMD build --keep-empty-dirs --no-resave-data --md5 ERSSA StartedAt: 2025-11-11 17:38:58 -0500 (Tue, 11 Nov 2025) EndedAt: 2025-11-11 17:39:47 -0500 (Tue, 11 Nov 2025) EllapsedTime: 49.0 seconds RetCode: 0 Status: OK PackageFile: ERSSA_1.28.0.tar.gz PackageFileSize: 2.681 MiB