Package: ERSSA Version: 1.26.0 Command: /home/biocbuild/R/R/bin/R CMD INSTALL ERSSA StartedAt: 2025-10-13 20:47:20 -0000 (Mon, 13 Oct 2025) EndedAt: 2025-10-13 20:48:00 -0000 (Mon, 13 Oct 2025) EllapsedTime: 39.9 seconds RetCode: 0 Status: OK