Package: ERSSA Version: 1.26.0 Command: /home/biocbuild/R/R/bin/R CMD build --keep-empty-dirs --no-resave-data ERSSA StartedAt: 2025-10-14 00:44:52 -0000 (Tue, 14 Oct 2025) EndedAt: 2025-10-14 00:46:04 -0000 (Tue, 14 Oct 2025) EllapsedTime: 72.0 seconds RetCode: 0 Status: OK PackageFile: ERSSA_1.26.0.tar.gz PackageFileSize: 2.742 MiB