Package: ERSSA Version: 1.28.0 Command: /Library/Frameworks/R.framework/Resources/bin/R CMD INSTALL ERSSA StartedAt: 2025-10-30 15:18:05 -0400 (Thu, 30 Oct 2025) EndedAt: 2025-10-30 15:18:16 -0400 (Thu, 30 Oct 2025) EllapsedTime: 10.6 seconds RetCode: 0 Status: OK