Package: ERSSA Version: 1.28.0 Command: /Library/Frameworks/R.framework/Resources/bin/R CMD build --keep-empty-dirs --no-resave-data ERSSA StartedAt: 2025-10-29 22:43:31 -0400 (Wed, 29 Oct 2025) EndedAt: 2025-10-29 22:43:52 -0400 (Wed, 29 Oct 2025) EllapsedTime: 21.2 seconds RetCode: 0 Status: OK PackageFile: ERSSA_1.28.0.tar.gz PackageFileSize: 2.679 MiB