Package: ENmix Version: 1.46.0 Command: /home/biocbuild/bbs-3.22-bioc/R/bin/R CMD INSTALL ENmix StartedAt: 2025-11-11 15:47:56 -0500 (Tue, 11 Nov 2025) EndedAt: 2025-11-11 15:48:47 -0500 (Tue, 11 Nov 2025) EllapsedTime: 51.0 seconds RetCode: 0 Status: OK