Package: EMDomics Version: 2.40.0 Command: /home/biocbuild/bbs-3.22-bioc/R/bin/R CMD build --keep-empty-dirs --no-resave-data --md5 EMDomics StartedAt: 2025-11-11 17:33:07 -0500 (Tue, 11 Nov 2025) EndedAt: 2025-11-11 17:33:22 -0500 (Tue, 11 Nov 2025) EllapsedTime: 15.0 seconds RetCode: 0 Status: OK PackageFile: EMDomics_2.40.0.tar.gz PackageFileSize: 294.8 KiB