Package: ELViS Version: 1.2.0 Command: /home/biocbuild/bbs-3.22-bioc/R/bin/R CMD check --install=check:ELViS.install-out.txt --library=/home/biocbuild/bbs-3.22-bioc/R/site-library --timings ELViS_1.2.0.tar.gz StartedAt: 2025-11-16 23:29:41 -0500 (Sun, 16 Nov 2025) EndedAt: 2025-11-16 23:37:30 -0500 (Sun, 16 Nov 2025) EllapsedTime: 468.5 seconds RetCode: 0 Status: OK CheckDir: ELViS.Rcheck Warnings: 0