Package: ELViS Version: 1.2.0 Command: /home/biocbuild/bbs-3.22-bioc/R/bin/R CMD build --keep-empty-dirs --no-resave-data --md5 ELViS StartedAt: 2025-11-11 17:33:04 -0500 (Tue, 11 Nov 2025) EndedAt: 2025-11-11 17:35:05 -0500 (Tue, 11 Nov 2025) EllapsedTime: 121.2 seconds RetCode: 0 Status: OK PackageFile: ELViS_1.2.0.tar.gz PackageFileSize: 2.391 MiB