Package: ELViS Version: 1.2.0 Command: /Library/Frameworks/R.framework/Resources/bin/R CMD INSTALL ELViS StartedAt: 2025-11-03 15:41:31 -0500 (Mon, 03 Nov 2025) EndedAt: 2025-11-03 15:42:30 -0500 (Mon, 03 Nov 2025) EllapsedTime: 59.0 seconds RetCode: 0 Status: OK