Package: ELViS Version: 1.2.0 Command: /Library/Frameworks/R.framework/Resources/bin/R CMD build --keep-empty-dirs --no-resave-data ELViS StartedAt: 2025-11-03 16:54:55 -0500 (Mon, 03 Nov 2025) EndedAt: 2025-11-03 16:58:18 -0500 (Mon, 03 Nov 2025) EllapsedTime: 202.5 seconds RetCode: 0 Status: OK PackageFile: ELViS_1.2.0.tar.gz PackageFileSize: 2.392 MiB