Package: ELViS Version: 1.2.0 Command: rm -rf ELViS.buildbin-libdir && mkdir ELViS.buildbin-libdir && /Users/biocbuild/BBS/utils/build-universal.sh ELViS_1.2.0.tar.gz /Library/Frameworks/R.framework/Resources/bin/R ELViS.buildbin-libdir StartedAt: 2025-11-04 01:38:44 -0500 (Tue, 04 Nov 2025) EndedAt: 2025-11-04 01:39:47 -0500 (Tue, 04 Nov 2025) EllapsedTime: 63.3 seconds RetCode: 0 Status: OK PackageFile: ELViS_1.2.0.tgz PackageFileSize: 2.603 MiB