Package: ELViS Version: 1.2.0 Command: /Library/Frameworks/R.framework/Resources/bin/R CMD build --keep-empty-dirs --no-resave-data ELViS StartedAt: 2025-11-21 00:36:15 -0500 (Fri, 21 Nov 2025) EndedAt: 2025-11-21 00:38:49 -0500 (Fri, 21 Nov 2025) EllapsedTime: 154.1 seconds RetCode: 0 Status: OK PackageFile: ELViS_1.2.0.tar.gz PackageFileSize: 2.392 MiB