Package: ELViS Version: 1.2.0 Command: rm -rf ELViS.buildbin-libdir && mkdir ELViS.buildbin-libdir && /Users/biocbuild/BBS/utils/build-universal.sh ELViS_1.2.0.tar.gz /Library/Frameworks/R.framework/Resources/bin/R ELViS.buildbin-libdir StartedAt: 2025-11-23 08:28:33 -0500 (Sun, 23 Nov 2025) EndedAt: 2025-11-23 08:29:55 -0500 (Sun, 23 Nov 2025) EllapsedTime: 81.1 seconds RetCode: 0 Status: OK PackageFile: ELViS_1.2.0.tgz PackageFileSize: 2.603 MiB