Package: EGSEA Version: 1.38.0 Command: /home/biocbuild/bbs-3.22-bioc/R/bin/R CMD INSTALL EGSEA StartedAt: 2025-11-11 16:03:06 -0500 (Tue, 11 Nov 2025) EndedAt: 2025-11-11 16:04:04 -0500 (Tue, 11 Nov 2025) EllapsedTime: 57.9 seconds RetCode: 0 Status: OK