Package: EGSEA Version: 1.38.0 Command: /home/biocbuild/bbs-3.22-bioc/R/bin/R CMD build --keep-empty-dirs --no-resave-data --md5 EGSEA StartedAt: 2025-11-13 17:31:34 -0500 (Thu, 13 Nov 2025) EndedAt: 2025-11-13 17:35:36 -0500 (Thu, 13 Nov 2025) EllapsedTime: 242.3 seconds RetCode: 0 Status: OK PackageFile: EGSEA_1.38.0.tar.gz PackageFileSize: 2.11 MiB