Package: EDIRquery Version: 1.10.0 Command: /home/biocbuild/R/R/bin/R CMD build --keep-empty-dirs --no-resave-data EDIRquery StartedAt: 2025-11-11 01:23:55 -0000 (Tue, 11 Nov 2025) EndedAt: 2025-11-11 01:24:43 -0000 (Tue, 11 Nov 2025) EllapsedTime: 48.0 seconds RetCode: 0 Status: OK PackageFile: EDIRquery_1.10.0.tar.gz PackageFileSize: 1.368 MiB