Package: EDIRquery Version: 1.8.0 Command: /Library/Frameworks/R.framework/Resources/bin/R CMD INSTALL EDIRquery StartedAt: 2025-10-06 15:43:11 -0400 (Mon, 06 Oct 2025) EndedAt: 2025-10-06 15:44:04 -0400 (Mon, 06 Oct 2025) EllapsedTime: 52.6 seconds RetCode: 0 Status: OK