Package: EDIRquery Version: 1.8.0 Command: /Library/Frameworks/R.framework/Resources/bin/R CMD build --keep-empty-dirs --no-resave-data EDIRquery StartedAt: 2025-10-06 18:46:21 -0400 (Mon, 06 Oct 2025) EndedAt: 2025-10-06 18:47:43 -0400 (Mon, 06 Oct 2025) EllapsedTime: 81.6 seconds RetCode: 0 Status: OK PackageFile: EDIRquery_1.8.0.tar.gz PackageFileSize: 1.376 MiB