Package: EDIRquery Version: 1.8.0 Command: rm -rf EDIRquery.buildbin-libdir && mkdir EDIRquery.buildbin-libdir && /Users/biocbuild/BBS/utils/build-universal.sh EDIRquery_1.8.0.tar.gz /Library/Frameworks/R.framework/Resources/bin/R EDIRquery.buildbin-libdir StartedAt: 2025-10-07 13:05:46 -0400 (Tue, 07 Oct 2025) EndedAt: 2025-10-07 13:06:50 -0400 (Tue, 07 Oct 2025) EllapsedTime: 64.4 seconds RetCode: 0 Status: OK PackageFile: EDIRquery_1.8.0.tgz PackageFileSize: 1.625 MiB