Package: EDASeq Version: 2.44.0 Command: /home/biocbuild/bbs-3.22-bioc/R/bin/R CMD INSTALL EDASeq StartedAt: 2025-11-11 15:56:39 -0500 (Tue, 11 Nov 2025) EndedAt: 2025-11-11 15:57:25 -0500 (Tue, 11 Nov 2025) EllapsedTime: 46.0 seconds RetCode: 0 Status: OK