Package: EDASeq Version: 2.42.0 Command: /Library/Frameworks/R.framework/Resources/bin/R CMD INSTALL EDASeq StartedAt: 2025-04-21 15:40:27 -0400 (Mon, 21 Apr 2025) EndedAt: 2025-04-21 15:41:25 -0400 (Mon, 21 Apr 2025) EllapsedTime: 57.4 seconds RetCode: 0 Status: OK