Package: EDASeq Version: 2.42.0 Command: /home/biocbuild/R/R/bin/R CMD INSTALL EDASeq StartedAt: 2025-09-29 21:09:43 -0000 (Mon, 29 Sep 2025) EndedAt: 2025-09-29 21:10:43 -0000 (Mon, 29 Sep 2025) EllapsedTime: 59.6 seconds RetCode: 0 Status: OK