Package: EDASeq Version: 2.42.0 Command: /home/biocbuild/R/R/bin/R CMD build --keep-empty-dirs --no-resave-data EDASeq StartedAt: 2025-09-30 00:49:09 -0000 (Tue, 30 Sep 2025) EndedAt: 2025-09-30 00:50:54 -0000 (Tue, 30 Sep 2025) EllapsedTime: 105.0 seconds RetCode: 0 Status: OK PackageFile: EDASeq_2.42.0.tar.gz PackageFileSize: 1.051 MiB