Package: EDASeq Version: 2.42.0 Command: /Library/Frameworks/R.framework/Resources/bin/R CMD INSTALL EDASeq StartedAt: 2025-10-13 18:01:24 -0400 (Mon, 13 Oct 2025) EndedAt: 2025-10-13 18:02:13 -0400 (Mon, 13 Oct 2025) EllapsedTime: 48.7 seconds RetCode: 0 Status: OK