Package: EDASeq Version: 2.42.0 Command: rm -rf EDASeq.buildbin-libdir && mkdir EDASeq.buildbin-libdir && /Users/biocbuild/BBS/utils/build-universal.sh EDASeq_2.42.0.tar.gz /Library/Frameworks/R.framework/Resources/bin/R EDASeq.buildbin-libdir StartedAt: 2025-10-15 18:20:32 -0400 (Wed, 15 Oct 2025) EndedAt: 2025-10-15 18:21:27 -0400 (Wed, 15 Oct 2025) EllapsedTime: 54.6 seconds RetCode: 0 Status: OK PackageFile: EDASeq_2.42.0.tgz PackageFileSize: 1.331 MiB