Package: EDASeq Version: 2.44.0 Maintainer: Davide Risso MaintainerEmail: risso.davide at gmail.com git_url: https://git.bioconductor.org/packages/EDASeq git_branch: RELEASE_3_22 git_last_commit: e7a4a13 git_last_commit_date: 2025-10-29 10:08:53 -0400 (Wed, 29 Oct 2025)