Package: EBcoexpress Version: 1.54.0 Command: /home/biocbuild/bbs-3.22-bioc/R/bin/R CMD check --install=check:EBcoexpress.install-out.txt --library=/home/biocbuild/bbs-3.22-bioc/R/site-library --timings EBcoexpress_1.54.0.tar.gz StartedAt: 2025-11-25 23:45:11 -0500 (Tue, 25 Nov 2025) EndedAt: 2025-11-25 23:45:55 -0500 (Tue, 25 Nov 2025) EllapsedTime: 43.0 seconds RetCode: 0 Status: WARNINGS CheckDir: EBcoexpress.Rcheck Warnings: 1