Package: EBcoexpress Version: 1.54.0 Command: /Library/Frameworks/R.framework/Resources/bin/R CMD INSTALL EBcoexpress StartedAt: 2025-11-03 15:19:54 -0500 (Mon, 03 Nov 2025) EndedAt: 2025-11-03 15:20:07 -0500 (Mon, 03 Nov 2025) EllapsedTime: 13.5 seconds RetCode: 0 Status: OK