Package: EBcoexpress Version: 1.54.0 Command: /Library/Frameworks/R.framework/Resources/bin/R CMD build --keep-empty-dirs --no-resave-data EBcoexpress StartedAt: 2025-11-03 16:53:57 -0500 (Mon, 03 Nov 2025) EndedAt: 2025-11-03 16:54:39 -0500 (Mon, 03 Nov 2025) EllapsedTime: 42.2 seconds RetCode: 0 Status: OK PackageFile: EBcoexpress_1.54.0.tar.gz PackageFileSize: 2.665 MiB