Package: EBcoexpress Version: 1.54.0 Command: rm -rf EBcoexpress.buildbin-libdir && mkdir EBcoexpress.buildbin-libdir && /Users/biocbuild/BBS/utils/build-universal.sh EBcoexpress_1.54.0.tar.gz /Library/Frameworks/R.framework/Resources/bin/R EBcoexpress.buildbin-libdir StartedAt: 2025-11-04 01:38:26 -0500 (Tue, 04 Nov 2025) EndedAt: 2025-11-04 01:38:38 -0500 (Tue, 04 Nov 2025) EllapsedTime: 11.6 seconds RetCode: 0 Status: OK PackageFile: EBcoexpress_1.54.0.tgz PackageFileSize: 2.749 MiB