Package: EBcoexpress Version: 1.52.0 Command: /home/biocbuild/R/R/bin/R CMD INSTALL EBcoexpress StartedAt: 2025-10-13 20:25:04 -0000 (Mon, 13 Oct 2025) EndedAt: 2025-10-13 20:25:11 -0000 (Mon, 13 Oct 2025) EllapsedTime: 6.3 seconds RetCode: 0 Status: OK