Package: EBcoexpress Version: 1.52.0 Command: /home/biocbuild/R/R/bin/R CMD build --keep-empty-dirs --no-resave-data EBcoexpress StartedAt: 2025-10-14 00:31:43 -0000 (Tue, 14 Oct 2025) EndedAt: 2025-10-14 00:32:12 -0000 (Tue, 14 Oct 2025) EllapsedTime: 29.0 seconds RetCode: 0 Status: OK PackageFile: EBcoexpress_1.52.0.tar.gz PackageFileSize: 2.975 MiB