Package: EBcoexpress Version: 1.52.0 Command: /Library/Frameworks/R.framework/Resources/bin/R CMD build --keep-empty-dirs --no-resave-data EBcoexpress StartedAt: 2025-04-21 16:14:23 -0400 (Mon, 21 Apr 2025) EndedAt: 2025-04-21 16:14:39 -0400 (Mon, 21 Apr 2025) EllapsedTime: 16.2 seconds RetCode: 0 Status: OK PackageFile: EBcoexpress_1.52.0.tar.gz PackageFileSize: 2.663 MiB