Package: EBarrays Version: 2.74.0 Command: /home/biocbuild/R/R/bin/R CMD INSTALL EBarrays StartedAt: 2025-11-10 21:18:00 -0000 (Mon, 10 Nov 2025) EndedAt: 2025-11-10 21:18:08 -0000 (Mon, 10 Nov 2025) EllapsedTime: 8.2 seconds RetCode: 0 Status: OK